BEGIN:VCALENDAR
VERSION:2.0
PRODID:-//Eesti Õngitsejate Liit - ECPv6.15.15//NONSGML v1.0//EN
CALSCALE:GREGORIAN
METHOD:PUBLISH
X-ORIGINAL-URL:https://sportkalastus.ee
X-WR-CALDESC:Events for Eesti Õngitsejate Liit
REFRESH-INTERVAL;VALUE=DURATION:PT1H
X-Robots-Tag:noindex
X-PUBLISHED-TTL:PT1H
BEGIN:VTIMEZONE
TZID:UTC
BEGIN:STANDARD
TZOFFSETFROM:+0000
TZOFFSETTO:+0000
TZNAME:UTC
DTSTART:20250101T000000
END:STANDARD
END:VTIMEZONE
BEGIN:VEVENT
DTSTART;TZID=UTC:20260131T000000
DTEND;TZID=UTC:20260201T235959
DTSTAMP:20260421T181727
CREATED:20260110T110834Z
LAST-MODIFIED:20260112T071336Z
UID:107-1769817600-1769990399@sportkalastus.ee
SUMMARY:Eesti meistrivõistlused jääaluses kalapüügis I etapp
DESCRIPTION:Eesti Meistrivõistlused jääaluses kalapüügis toimuvad kolmes etapis. Võistlused viiakse läbi individuaalvõistluse ja võistkonnavõistlusena ning võistlused toimuvad sektorites. Esimene etapp toimub 30.01-01.02.26 Õisu järvel. \nToimumise aeg:\nI püügivoor 31.01.2026\nII püügivoor 01.02.2026\nVeekogu: Õisu järv\nKogunemiskoht: Õisu järve vaate torni juures\, https://kaart.delfi.ee/…\nKaalumine: Kopra Turismitalus http://www.kopra.ee/contact/. Võimalik broneerida majutust koos toitlustusega.\nVõistlusklassid: üldarvestus(mehed\, naised\, noored) ja võistkond\, kuhu kuulub 3 liiget. \nRegistreerimine: individuaal ja võistkondade registreerimise kinnitab ülekande tasumine a/a EE971010220032877013 (Eesti Õngitsejate Liit) ja selgituseks võistleja või võistlejate nimed (kui tasustatakse mitme võistleja eest).\nRegistreerimise lõpp 29.01.2026 ja hiljemalt 30.01.2026 peavad osalustasud olema ülekantud.\nLink: https://forms.gle/3uCSSzgzmCBEhe7Y6\nKOHAPEAL REGISTREERIMIST EI TOIMU!\nOsalustasu 30€ \nAutasustamine: karikate\, medalite ja võimalusel auhindadega autasustatakse kolme parimat individuaalvõistlejat ja kolme parimat võistkonda.\nEeltreeningud: võistlusveekogu jääl viibimine on võistlejatele keelatud 1km raadiuses Õisu vaate torni juurest alates kolmapäevast (28.01.2026) kuni võistluse alguseni (v.a. korraldusmeeskond ja kohtunikud – järelevalve teostamiseks ja sektorite mahamärkimiseks). Püügikeelu ala on märgitud kaardil. \nVõistluse jooksul võistlejate poolt saadud kala jagatakse soovi korral pärast kaalumist võistlejatele tagasi. Kui kala jääb üle\, siis korraldaja organiseerib kalade utiliseerimise.\nVõistluse territooriumile ja selle lähiümbrusesse prügi mahapanek on keelatud.\nVõistlejal peab olema kehtiv harrastuspüügiõigus. \nAJAKAVAI voor 31.01.202608:30 – 10:00 sektorite märkimine\, kogunemine Õisu järve vaate torni juures;10:00 – 10:30 võistluse avamine ja sektorite loosimine;10:30 – 10:55 võistluspaika minek\, sektorisse sisenemine – pärast esimest signaali ja püügikoha valik;11:00 – 14:00 võistluspüük;~15:00 – kaalumine Kopra Turismitalus\n\nII voor 01.02.202609:00 – 09:45 kogunemine Limnoloogia Õisu järve vaate torni juuress;09:00 – 09:30 võistluse avamine ja sektorite loosimine;09:30 – 09:55 võistluspaika minek\, püügivarustuse ja võistlejate kontroll enne sektorisse sisenemist;09:55 – 10:00 sektorisse sisenemine – pärast esimest signaali ja püügikoha valik;10:00 – 13:00 võistluspüük;~14:00 – kaalumine ja autasustamine Kopra Turismitalus
URL:https://sportkalastus.ee/event/eesti-meistrivoistlused-jaaaluses-kalapuugis-i-etapp/
CATEGORIES:Talipüük
END:VEVENT
END:VCALENDAR